BEGIN:VCALENDAR
VERSION:2.0
PRODID:-//Sabre//Sabre VObject 4.5.8//EN
CALSCALE:GREGORIAN
BEGIN:VEVENT
UID:criticalmass-one-norderstedt-1764957600
DTSTAMP:20260422T060750Z
SUMMARY:129. Critical Mass Norderstedt
DESCRIPTION:Wir werden die letzte CM des Jahres wieder auf dem Weihnachtsma
 rkt nach einigen Kilometern Fahrt vor der Post Norderstedt-Mitte ausklinge
 n lassen.
DTSTART;TZID=Europe/Berlin:20251205T190000
DTEND;TZID=Europe/Berlin:20251205T210000
LOCATION:Vor dem Rathaus Norderstedt\, Rathausallee 50\, 22846 Norderstedt
GEO:53.703865;10.003784
URL;VALUE=URI:https://criticalmass.in/norderstedt/2025-12-05
END:VEVENT
END:VCALENDAR
