BEGIN:VCALENDAR
VERSION:2.0
PRODID:-//Sabre//Sabre VObject 4.5.8//EN
CALSCALE:GREGORIAN
BEGIN:VEVENT
UID:criticalmass-one-norderstedt-1712336400
DTSTAMP:20260422T105402Z
SUMMARY:Critical Mass Norderstedt 05.04.2024
DTSTART;TZID=Europe/Berlin:20240405T190000
DTEND;TZID=Europe/Berlin:20240405T210000
LOCATION:Vor dem Rathaus
GEO:53.707307;9.994471
URL;VALUE=URI:https://criticalmass.in/norderstedt/2024-04-05
END:VEVENT
END:VCALENDAR
