BEGIN:VCALENDAR
VERSION:2.0
PRODID:-//Sabre//Sabre VObject 4.5.8//EN
CALSCALE:GREGORIAN
BEGIN:VEVENT
UID:criticalmass-one-norderstedt-1646416800
DTSTAMP:20260423T084649Z
SUMMARY:Critical Mass Norderstedt 04.03.2022
DTSTART;TZID=Europe/Berlin:20220304T190000
DTEND;TZID=Europe/Berlin:20220304T210000
LOCATION:Vor dem Rathaus
GEO:53.707307;9.994471
URL;VALUE=URI:https://criticalmass.in/norderstedt/2022-03-04
END:VEVENT
END:VCALENDAR
