BEGIN:VCALENDAR
VERSION:2.0
PRODID:-//Sabre//Sabre VObject 4.5.8//EN
CALSCALE:GREGORIAN
BEGIN:VEVENT
UID:criticalmass-one-norderstedt-1628269200
DTSTAMP:20260422T105401Z
SUMMARY:Critical Mass Norderstedt 06.08.2021
DTSTART;TZID=Europe/Berlin:20210806T190000
DTEND;TZID=Europe/Berlin:20210806T210000
LOCATION:Vor dem Rathaus
GEO:53.707307;9.994471
URL;VALUE=URI:https://criticalmass.in/norderstedt/2021-08-06
END:VEVENT
END:VCALENDAR
