BEGIN:VCALENDAR
VERSION:2.0
PRODID:-//Sabre//Sabre VObject 4.5.8//EN
CALSCALE:GREGORIAN
BEGIN:VEVENT
UID:criticalmass-one-norderstedt-1625245200
DTSTAMP:20260422T133551Z
SUMMARY:Critical Mass Norderstedt 02.07.2021
DTSTART;TZID=Europe/Berlin:20210702T190000
DTEND;TZID=Europe/Berlin:20210702T210000
LOCATION:Vor dem Rathaus
GEO:53.707307;9.994471
URL;VALUE=URI:https://criticalmass.in/norderstedt/2021-07-02
END:VEVENT
END:VCALENDAR
