BEGIN:VCALENDAR
VERSION:2.0
PRODID:-//Sabre//Sabre VObject 4.5.8//EN
CALSCALE:GREGORIAN
BEGIN:VEVENT
UID:criticalmass-one-norderstedt-1622826000
DTSTAMP:20260422T100338Z
SUMMARY:Critical Mass Norderstedt 04.06.2021
DTSTART;TZID=Europe/Berlin:20210604T190000
DTEND;TZID=Europe/Berlin:20210604T210000
LOCATION:Vor dem Rathaus
GEO:53.707307;9.994471
URL;VALUE=URI:https://criticalmass.in/norderstedt/2021-06-04
END:VEVENT
END:VCALENDAR
