BEGIN:VCALENDAR
VERSION:2.0
PRODID:-//Sabre//Sabre VObject 4.5.8//EN
CALSCALE:GREGORIAN
BEGIN:VEVENT
UID:criticalmass-one-norderstedt-1620406800
DTSTAMP:20260423T084536Z
SUMMARY:Critical Mass Norderstedt 07.05.2021
DTSTART;TZID=Europe/Berlin:20210507T190000
DTEND;TZID=Europe/Berlin:20210507T210000
LOCATION:Vor dem Rathaus
GEO:53.707307;9.994471
URL;VALUE=URI:https://criticalmass.in/norderstedt/2021-05-07
END:VEVENT
END:VCALENDAR
