BEGIN:VCALENDAR
VERSION:2.0
PRODID:-//Sabre//Sabre VObject 4.5.8//EN
CALSCALE:GREGORIAN
BEGIN:VEVENT
UID:criticalmass-one-norderstedt-1593795600
DTSTAMP:20260422T012422Z
SUMMARY:Critical Mass Norderstedt 03.07.2020
DTSTART;TZID=Europe/Berlin:20200703T190000
DTEND;TZID=Europe/Berlin:20200703T210000
LOCATION:Vor dem Rathaus
GEO:53.707307;9.994471
URL;VALUE=URI:https://criticalmass.in/norderstedt/2020-07-03
END:VEVENT
END:VCALENDAR
