BEGIN:VCALENDAR
VERSION:2.0
PRODID:-//Sabre//Sabre VObject 4.5.8//EN
CALSCALE:GREGORIAN
BEGIN:VEVENT
UID:criticalmass-one-norderstedt-1588352400
DTSTAMP:20260422T224412Z
SUMMARY:Critical Mass Norderstedt 01.05.2020
DTSTART;TZID=Europe/Berlin:20200501T190000
DTEND;TZID=Europe/Berlin:20200501T210000
LOCATION:Vor dem Rathaus
GEO:53.707307;9.994471
URL;VALUE=URI:https://criticalmass.in/norderstedt/2020-05-01
END:VEVENT
END:VCALENDAR
