BEGIN:VCALENDAR
VERSION:2.0
PRODID:-//Sabre//Sabre VObject 4.5.8//EN
CALSCALE:GREGORIAN
BEGIN:VEVENT
UID:criticalmass-one-norderstedt-1585933200
DTSTAMP:20260421T190118Z
SUMMARY:Critical Mass Norderstedt 03.04.2020
DESCRIPTION:Dezentrale Critical 1-Personen"Mass"
DTSTART;TZID=Europe/Berlin:20200403T190000
DTEND;TZID=Europe/Berlin:20200403T210000
LOCATION:Vor dem Rathaus
GEO:53.707307;9.994471
URL;VALUE=URI:https://criticalmass.in/norderstedt/2020-04-03
END:VEVENT
END:VCALENDAR
