BEGIN:VCALENDAR
VERSION:2.0
PRODID:-//Sabre//Sabre VObject 4.5.8//EN
CALSCALE:GREGORIAN
BEGIN:VEVENT
UID:criticalmass-one-norderstedt-1551463200
DTSTAMP:20260423T184914Z
SUMMARY:Critical Mass Norderstedt 01.03.2019
DTSTART;TZID=Europe/Berlin:20190301T190000
DTEND;TZID=Europe/Berlin:20190301T210000
LOCATION:Vor dem Rathaus
GEO:53.707307;9.994471
URL;VALUE=URI:https://criticalmass.in/norderstedt/2019-03-01
END:VEVENT
END:VCALENDAR
