BEGIN:VCALENDAR
VERSION:2.0
PRODID:-//Sabre//Sabre VObject 4.5.8//EN
CALSCALE:GREGORIAN
BEGIN:VEVENT
UID:criticalmass-one-norderstedt-1530896400
DTSTAMP:20260423T143156Z
SUMMARY:Critical Mass Norderstedt 06.07.2018
DTSTART;TZID=Europe/Berlin:20180706T190000
DTEND;TZID=Europe/Berlin:20180706T210000
LOCATION:Vor dem Rathaus
GEO:53.707307;9.994471
URL;VALUE=URI:https://criticalmass.in/norderstedt/2018-07-06
END:VEVENT
END:VCALENDAR
