BEGIN:VCALENDAR
VERSION:2.0
PRODID:-//Sabre//Sabre VObject 4.5.8//EN
CALSCALE:GREGORIAN
BEGIN:VEVENT
UID:criticalmass-one-norderstedt-1525453200
DTSTAMP:20260423T232904Z
SUMMARY:Critical Mass Norderstedt 04.05.2018
DTSTART;TZID=Europe/Berlin:20180504T190000
DTEND;TZID=Europe/Berlin:20180504T210000
LOCATION:Vor dem Rathaus
GEO:53.707307;9.994471
URL;VALUE=URI:https://criticalmass.in/norderstedt/2018-05-04
END:VEVENT
END:VCALENDAR
