BEGIN:VCALENDAR
VERSION:2.0
PRODID:-//Sabre//Sabre VObject 4.5.8//EN
CALSCALE:GREGORIAN
BEGIN:VEVENT
UID:criticalmass-one-norderstedt-1520013600
DTSTAMP:20260422T133328Z
SUMMARY:Critical Mass Norderstedt 02.03.2018
DTSTART;TZID=Europe/Berlin:20180302T190000
DTEND;TZID=Europe/Berlin:20180302T210000
LOCATION:Vor dem Rathaus
GEO:53.707307;9.994471
URL;VALUE=URI:https://criticalmass.in/norderstedt/2018-03-02
END:VEVENT
END:VCALENDAR
