BEGIN:VCALENDAR
VERSION:2.0
PRODID:-//Sabre//Sabre VObject 4.5.8//EN
CALSCALE:GREGORIAN
BEGIN:VEVENT
UID:criticalmass-one-norderstedt-1517594400
DTSTAMP:20260422T163403Z
SUMMARY:Critical Mass Norderstedt 02.02.2018
DTSTART;TZID=Europe/Berlin:20180202T190000
DTEND;TZID=Europe/Berlin:20180202T210000
LOCATION:Vor dem Rathaus
GEO:53.707307;9.994471
URL;VALUE=URI:https://criticalmass.in/norderstedt/2018-02-02
END:VEVENT
END:VCALENDAR
