BEGIN:VCALENDAR
VERSION:2.0
PRODID:-//Sabre//Sabre VObject 4.5.8//EN
CALSCALE:GREGORIAN
BEGIN:VEVENT
UID:criticalmass-one-norderstedt-1497286800
DTSTAMP:20260422T145832Z
SUMMARY:Critical Mass Norderstedt 12.6.2017
DESCRIPTION:zum 200. Jubiläum des Fahrrades eine 2.CM im Juni in Norderste
 dt
DTSTART;TZID=Europe/Berlin:20170612T190000
DTEND;TZID=Europe/Berlin:20170612T210000
LOCATION:Vor dem Rathaus Norderstedt
URL;VALUE=URI:https://criticalmass.in/norderstedt/2017-06-12
END:VEVENT
END:VCALENDAR
