BEGIN:VCALENDAR
VERSION:2.0
PRODID:-//Sabre//Sabre VObject 4.5.8//EN
CALSCALE:GREGORIAN
BEGIN:VEVENT
UID:criticalmass-one-norderstedt-1496422800
DTSTAMP:20260422T190420Z
SUMMARY:Critical Mass Norderstedt 2.6.2017
DTSTART;TZID=Europe/Berlin:20170602T190000
DTEND;TZID=Europe/Berlin:20170602T210000
LOCATION:Vor dem Rathaus
GEO:53.707307;9.994471
URL;VALUE=URI:https://criticalmass.in/norderstedt/2017-06-02
END:VEVENT
END:VCALENDAR
