BEGIN:VCALENDAR
VERSION:2.0
PRODID:-//Sabre//Sabre VObject 4.5.8//EN
CALSCALE:GREGORIAN
BEGIN:VEVENT
UID:criticalmass-one-norderstedt-1472835600
DTSTAMP:20260423T112747Z
SUMMARY:Critical Mass Norderstedt 02.09.2016
DTSTART;TZID=Europe/Berlin:20160902T190000
DTEND;TZID=Europe/Berlin:20160902T210000
LOCATION:Vor dem Rathaus
GEO:53.707307;9.994471
URL;VALUE=URI:https://criticalmass.in/norderstedt/2016-09-02
END:VEVENT
END:VCALENDAR
