BEGIN:VCALENDAR
VERSION:2.0
PRODID:-//Sabre//Sabre VObject 4.5.8//EN
CALSCALE:GREGORIAN
BEGIN:VEVENT
UID:criticalmass-one-norderstedt-1470416400
DTSTAMP:20260422T073730Z
SUMMARY:Critical Mass Norderstedt 05.08.2016
DTSTART;TZID=Europe/Berlin:20160805T190000
DTEND;TZID=Europe/Berlin:20160805T210000
LOCATION:Vor dem Rathaus
GEO:53.707307;9.994471
URL;VALUE=URI:https://criticalmass.in/norderstedt/2016-08-05
END:VEVENT
END:VCALENDAR
