BEGIN:VCALENDAR
VERSION:2.0
PRODID:-//Sabre//Sabre VObject 4.5.8//EN
CALSCALE:GREGORIAN
BEGIN:VEVENT
UID:criticalmass-one-norderstedt-1446832800
DTSTAMP:20260423T143151Z
SUMMARY:Critical Mass Norderstedt 06.11.2015
DTSTART;TZID=Europe/Berlin:20151106T190000
DTEND;TZID=Europe/Berlin:20151106T210000
LOCATION:Vor dem Rathaus
GEO:53.707307;9.994471
URL;VALUE=URI:https://criticalmass.in/norderstedt/2015-11-06
END:VEVENT
END:VCALENDAR
