BEGIN:VCALENDAR
VERSION:2.0
PRODID:-//Sabre//Sabre VObject 4.5.8//EN
CALSCALE:GREGORIAN
BEGIN:VEVENT
UID:criticalmass-one-nienburg-1652535000
DTSTAMP:20260423T194921Z
SUMMARY:Kidical Mass Nienburg 14.05.2022
DTSTART;TZID=Europe/Berlin:20220514T153000
DTEND;TZID=Europe/Berlin:20220514T173000
LOCATION:Grundschule am Bach
GEO:52.664278;9.237328
URL;VALUE=URI:https://criticalmass.in/nienburg/kidical-mass-nienburg-mai-20
 22
END:VEVENT
END:VCALENDAR
