BEGIN:VCALENDAR
VERSION:2.0
PRODID:-//Sabre//Sabre VObject 4.5.8//EN
CALSCALE:GREGORIAN
BEGIN:VEVENT
UID:criticalmass-one-nienburg-1748617200
DTSTAMP:20260424T121849Z
SUMMARY:Critical Mass Nienburg 30.05.2025
DTSTART;TZID=Europe/Berlin:20250530T170000
DTEND;TZID=Europe/Berlin:20250530T190000
LOCATION:Goetheplatz
GEO:52.641690;9.207734
URL;VALUE=URI:https://criticalmass.in/nienburg/2025-05-30
END:VEVENT
END:VCALENDAR
