BEGIN:VCALENDAR
VERSION:2.0
PRODID:-//Sabre//Sabre VObject 4.5.8//EN
CALSCALE:GREGORIAN
BEGIN:VEVENT
UID:criticalmass-one-nienburg-1717167600
DTSTAMP:20260425T233935Z
SUMMARY:Critical Mass Nienburg 31.05.2024
DTSTART;TZID=Europe/Berlin:20240531T170000
DTEND;TZID=Europe/Berlin:20240531T190000
LOCATION:Goetheplatz
GEO:52.641690;9.207734
URL;VALUE=URI:https://criticalmass.in/nienburg/2024-05-31
END:VEVENT
END:VCALENDAR
