BEGIN:VCALENDAR
VERSION:2.0
PRODID:-//Sabre//Sabre VObject 4.5.8//EN
CALSCALE:GREGORIAN
BEGIN:VEVENT
UID:criticalmass-one-nienburg-1698418800
DTSTAMP:20260425T182048Z
SUMMARY:Critical Mass Nienburg 27.10.2023
DTSTART;TZID=Europe/Berlin:20231027T170000
DTEND;TZID=Europe/Berlin:20231027T190000
LOCATION:Goetheplatz
GEO:52.641690;9.207734
URL;VALUE=URI:https://criticalmass.in/nienburg/2023-10-27
END:VEVENT
END:VCALENDAR
