BEGIN:VCALENDAR
VERSION:2.0
PRODID:-//Sabre//Sabre VObject 4.5.8//EN
CALSCALE:GREGORIAN
BEGIN:VEVENT
UID:criticalmass-one-nienburg-1695999600
DTSTAMP:20260425T105743Z
SUMMARY:Critical Mass Nienburg 29.09.2023
DTSTART;TZID=Europe/Berlin:20230929T170000
DTEND;TZID=Europe/Berlin:20230929T190000
LOCATION:Goetheplatz
GEO:52.641690;9.207734
URL;VALUE=URI:https://criticalmass.in/nienburg/2023-09-29
END:VEVENT
END:VCALENDAR
