BEGIN:VCALENDAR
VERSION:2.0
PRODID:-//Sabre//Sabre VObject 4.5.8//EN
CALSCALE:GREGORIAN
BEGIN:VEVENT
UID:criticalmass-one-nienburg-1690556400
DTSTAMP:20260424T175838Z
SUMMARY:Critical Mass Nienburg 28.07.2023
DTSTART;TZID=Europe/Berlin:20230728T170000
DTEND;TZID=Europe/Berlin:20230728T190000
LOCATION:Goetheplatz
GEO:52.641690;9.207734
URL;VALUE=URI:https://criticalmass.in/nienburg/2023-07-28
END:VEVENT
END:VCALENDAR
