BEGIN:VCALENDAR
VERSION:2.0
PRODID:-//Sabre//Sabre VObject 4.5.8//EN
CALSCALE:GREGORIAN
BEGIN:VEVENT
UID:criticalmass-one-nienburg-1688137200
DTSTAMP:20260424T191933Z
SUMMARY:Critical Mass Nienburg 30.06.2023
DTSTART;TZID=Europe/Berlin:20230630T170000
DTEND;TZID=Europe/Berlin:20230630T190000
LOCATION:Goetheplatz
GEO:52.641690;9.207734
URL;VALUE=URI:https://criticalmass.in/nienburg/2023-06-30
END:VEVENT
END:VCALENDAR
