BEGIN:VCALENDAR
VERSION:2.0
PRODID:-//Sabre//Sabre VObject 4.5.8//EN
CALSCALE:GREGORIAN
BEGIN:VEVENT
UID:criticalmass-one-nienburg-1682694000
DTSTAMP:20260423T210022Z
SUMMARY:Critical Mass Nienburg 28.04.2023
DTSTART;TZID=Europe/Berlin:20230428T170000
DTEND;TZID=Europe/Berlin:20230428T190000
LOCATION:Goetheplatz
GEO:52.641690;9.207734
URL;VALUE=URI:https://criticalmass.in/nienburg/2023-04-28
END:VEVENT
END:VCALENDAR
