BEGIN:VCALENDAR
VERSION:2.0
PRODID:-//Sabre//Sabre VObject 4.5.8//EN
CALSCALE:GREGORIAN
BEGIN:VEVENT
UID:criticalmass-one-nienburg-1674835200
DTSTAMP:20260424T022939Z
SUMMARY:Critical Mass Nienburg 27.01.2023
DTSTART;TZID=Europe/Berlin:20230127T170000
DTEND;TZID=Europe/Berlin:20230127T190000
LOCATION:Goetheplatz
GEO:52.641690;9.207734
URL;VALUE=URI:https://criticalmass.in/nienburg/2023-01-27
END:VEVENT
END:VCALENDAR
