BEGIN:VCALENDAR
VERSION:2.0
PRODID:-//Sabre//Sabre VObject 4.5.8//EN
CALSCALE:GREGORIAN
BEGIN:VEVENT
UID:criticalmass-one-nienburg-1648224000
DTSTAMP:20260424T175805Z
SUMMARY:Critical Mass Nienburg 25.03.2022
DTSTART;TZID=Europe/Berlin:20220325T170000
DTEND;TZID=Europe/Berlin:20220325T190000
LOCATION:Goetheplatz
GEO:52.641690;9.207734
URL;VALUE=URI:https://criticalmass.in/nienburg/2022-03-25
END:VEVENT
END:VCALENDAR
