BEGIN:VCALENDAR
VERSION:2.0
PRODID:-//Sabre//Sabre VObject 4.5.8//EN
CALSCALE:GREGORIAN
BEGIN:VEVENT
UID:criticalmass-one-nienburg-1643385600
DTSTAMP:20260424T192041Z
SUMMARY:Critical Mass Nienburg 28.01.2022
DTSTART;TZID=Europe/Berlin:20220128T170000
DTEND;TZID=Europe/Berlin:20220128T190000
LOCATION:Goetheplatz
GEO:52.641690;9.207734
URL;VALUE=URI:https://criticalmass.in/nienburg/2022-01-28
END:VEVENT
END:VCALENDAR
