BEGIN:VCALENDAR
VERSION:2.0
PRODID:-//Sabre//Sabre VObject 4.5.8//EN
CALSCALE:GREGORIAN
BEGIN:VEVENT
UID:criticalmass-one-nienburg-1640966400
DTSTAMP:20260424T075300Z
SUMMARY:Critical Mass Nienburg 31.12.2021
DTSTART;TZID=Europe/Berlin:20211231T170000
DTEND;TZID=Europe/Berlin:20211231T190000
LOCATION:Goetheplatz
GEO:52.641690;9.207734
URL;VALUE=URI:https://criticalmass.in/nienburg/2021-12-31
END:VEVENT
END:VCALENDAR
