BEGIN:VCALENDAR
VERSION:2.0
PRODID:-//Sabre//Sabre VObject 4.5.8//EN
CALSCALE:GREGORIAN
BEGIN:VEVENT
UID:criticalmass-one-nienburg-1635519600
DTSTAMP:20260424T220712Z
SUMMARY:Critical Mass Nienburg 29.10.2021
DTSTART;TZID=Europe/Berlin:20211029T170000
DTEND;TZID=Europe/Berlin:20211029T190000
LOCATION:Goetheplatz
GEO:52.641690;9.207734
URL;VALUE=URI:https://criticalmass.in/nienburg/2021-10-29
END:VEVENT
END:VCALENDAR
