BEGIN:VCALENDAR
VERSION:2.0
PRODID:-//Sabre//Sabre VObject 4.5.8//EN
CALSCALE:GREGORIAN
BEGIN:VEVENT
UID:criticalmass-one-nienburg-1624633200
DTSTAMP:20260424T134918Z
SUMMARY:Critical Mass Nienburg 25.06.2021
DTSTART;TZID=Europe/Berlin:20210625T170000
DTEND;TZID=Europe/Berlin:20210625T190000
LOCATION:Goetheplatz
GEO:52.641690;9.207734
URL;VALUE=URI:https://criticalmass.in/nienburg/2021-06-25
END:VEVENT
END:VCALENDAR
