BEGIN:VCALENDAR
VERSION:2.0
PRODID:-//Sabre//Sabre VObject 4.5.8//EN
CALSCALE:GREGORIAN
BEGIN:VEVENT
UID:criticalmass-one-nienburg-1622214000
DTSTAMP:20260425T021435Z
SUMMARY:Critical Mass Nienburg 28.05.2021
DTSTART;TZID=Europe/Berlin:20210528T170000
DTEND;TZID=Europe/Berlin:20210528T190000
LOCATION:Goetheplatz
GEO:52.641690;9.207734
URL;VALUE=URI:https://criticalmass.in/nienburg/2021-05-28
END:VEVENT
END:VCALENDAR
