BEGIN:VCALENDAR
VERSION:2.0
PRODID:-//Sabre//Sabre VObject 4.5.8//EN
CALSCALE:GREGORIAN
BEGIN:VEVENT
UID:criticalmass-one-nienburg-1614355200
DTSTAMP:20260424T134917Z
SUMMARY:Critical Mass Nienburg 26.02.2021
DTSTART;TZID=Europe/Berlin:20210226T170000
DTEND;TZID=Europe/Berlin:20210226T190000
LOCATION:Goetheplatz
GEO:52.641690;9.207734
URL;VALUE=URI:https://criticalmass.in/nienburg/2021-02-26
END:VEVENT
END:VCALENDAR
