BEGIN:VCALENDAR
VERSION:2.0
PRODID:-//Sabre//Sabre VObject 4.5.8//EN
CALSCALE:GREGORIAN
BEGIN:VEVENT
UID:criticalmass-one-nienburg-1604073600
DTSTAMP:20260424T105103Z
SUMMARY:Critical Mass Nienburg 30.10.2020
DTSTART;TZID=Europe/Berlin:20201030T170000
DTEND;TZID=Europe/Berlin:20201030T190000
LOCATION:Goetheplatz
GEO:52.641690;9.207734
URL;VALUE=URI:https://criticalmass.in/nienburg/2020-10-30
END:VEVENT
END:VCALENDAR
