BEGIN:VCALENDAR
VERSION:2.0
PRODID:-//Sabre//Sabre VObject 4.5.8//EN
CALSCALE:GREGORIAN
BEGIN:VEVENT
UID:criticalmass-one-nienburg-1598626800
DTSTAMP:20260424T134810Z
SUMMARY:Critical Mass Nienburg 28.08.2020
DTSTART;TZID=Europe/Berlin:20200828T170000
DTEND;TZID=Europe/Berlin:20200828T190000
LOCATION:Goetheplatz
GEO:52.641690;9.207734
URL;VALUE=URI:https://criticalmass.in/nienburg/2020-08-28
END:VEVENT
END:VCALENDAR
