BEGIN:VCALENDAR
VERSION:2.0
PRODID:-//Sabre//Sabre VObject 4.5.8//EN
CALSCALE:GREGORIAN
BEGIN:VEVENT
UID:criticalmass-one-nienburg-1587740400
DTSTAMP:20260423T204949Z
SUMMARY:Critical Mass Nienburg 24.04.2020
DTSTART;TZID=Europe/Berlin:20200424T170000
DTEND;TZID=Europe/Berlin:20200424T190000
LOCATION:Goetheplatz
GEO:52.641690;9.207734
URL;VALUE=URI:https://criticalmass.in/nienburg/2020-04-24
END:VEVENT
END:VCALENDAR
