BEGIN:VCALENDAR
VERSION:2.0
PRODID:-//Sabre//Sabre VObject 4.5.8//EN
CALSCALE:GREGORIAN
BEGIN:VEVENT
UID:criticalmass-one-nienburg-1580486400
DTSTAMP:20260424T105104Z
SUMMARY:Critical Mass Nienburg 31.01.2020
DTSTART;TZID=Europe/Berlin:20200131T170000
DTEND;TZID=Europe/Berlin:20200131T190000
LOCATION:Goetheplatz
GEO:52.641690;9.207734
URL;VALUE=URI:https://criticalmass.in/nienburg/2020-01-31
END:VEVENT
END:VCALENDAR
