BEGIN:VCALENDAR
VERSION:2.0
PRODID:-//Sabre//Sabre VObject 4.5.8//EN
CALSCALE:GREGORIAN
BEGIN:VEVENT
UID:criticalmass-one-nienburg-1577462400
DTSTAMP:20260423T232731Z
SUMMARY:Critical Mass Nienburg 27.12.2019
DTSTART;TZID=Europe/Berlin:20191227T170000
DTEND;TZID=Europe/Berlin:20191227T190000
LOCATION:Goetheplatz
GEO:52.641690;9.207734
URL;VALUE=URI:https://criticalmass.in/nienburg/2019-12-27
END:VEVENT
END:VCALENDAR
