BEGIN:VCALENDAR
VERSION:2.0
PRODID:-//Sabre//Sabre VObject 4.5.8//EN
CALSCALE:GREGORIAN
BEGIN:VEVENT
UID:criticalmass-one-nienburg-1569596400
DTSTAMP:20260424T092440Z
SUMMARY:Critical Mass Nienburg 27.09.2019
DTSTART;TZID=Europe/Berlin:20190927T170000
DTEND;TZID=Europe/Berlin:20190927T190000
LOCATION:Goetheplatz
GEO:52.641690;9.207734
URL;VALUE=URI:https://criticalmass.in/nienburg/2019-09-27
END:VEVENT
END:VCALENDAR
