BEGIN:VCALENDAR
VERSION:2.0
PRODID:-//Sabre//Sabre VObject 4.5.8//EN
CALSCALE:GREGORIAN
BEGIN:VEVENT
UID:criticalmass-one-nienburg-1553875200
DTSTAMP:20260423T192749Z
SUMMARY:Critical Mass Nienburg 29.03.2019
DTSTART;TZID=Europe/Berlin:20190329T170000
DTEND;TZID=Europe/Berlin:20190329T190000
LOCATION:Goetheplatz
GEO:52.641690;9.207734
URL;VALUE=URI:https://criticalmass.in/nienburg/2019-03-29
END:VEVENT
END:VCALENDAR
