BEGIN:VCALENDAR
VERSION:2.0
PRODID:-//Sabre//Sabre VObject 4.5.8//EN
CALSCALE:GREGORIAN
BEGIN:VEVENT
UID:criticalmass-one-nienburg-1548432000
DTSTAMP:20260423T232743Z
SUMMARY:Critical Mass Nienburg 25.01.2019
DTSTART;TZID=Europe/Berlin:20190125T170000
DTEND;TZID=Europe/Berlin:20190125T190000
LOCATION:Goetheplatz
GEO:52.641690;9.207734
URL;VALUE=URI:https://criticalmass.in/nienburg/2019-01-25
END:VEVENT
END:VCALENDAR
