BEGIN:VCALENDAR
VERSION:2.0
PRODID:-//Sabre//Sabre VObject 4.5.8//EN
CALSCALE:GREGORIAN
BEGIN:VEVENT
UID:criticalmass-one-nienburg-1535727600
DTSTAMP:20260425T232528Z
SUMMARY:Critical Mass Nienburg 31.08.2018
DTSTART;TZID=Europe/Berlin:20180831T170000
DTEND;TZID=Europe/Berlin:20180831T190000
LOCATION:Goetheplatz
GEO:52.641690;9.207734
URL;VALUE=URI:https://criticalmass.in/nienburg/2018-08-31
END:VEVENT
END:VCALENDAR
