BEGIN:VCALENDAR
VERSION:2.0
PRODID:-//Sabre//Sabre VObject 4.5.8//EN
CALSCALE:GREGORIAN
BEGIN:VEVENT
UID:criticalmass-one-nienburg-1522422000
DTSTAMP:20260425T034301Z
SUMMARY:Critical Mass Nienburg 30.03.2018
DTSTART;TZID=Europe/Berlin:20180330T170000
DTEND;TZID=Europe/Berlin:20180330T190000
LOCATION:Goetheplatz
GEO:52.641690;9.207734
URL;VALUE=URI:https://criticalmass.in/nienburg/2018-03-30
END:VEVENT
END:VCALENDAR
