BEGIN:VCALENDAR
VERSION:2.0
PRODID:-//Sabre//Sabre VObject 4.5.8//EN
CALSCALE:GREGORIAN
BEGIN:VEVENT
UID:criticalmass-one-new-haven-1769882400
DTSTAMP:20260422T140432Z
SUMMARY:Alex Pretti Memorial Ride — Richard and Friends
DESCRIPTION:New Haven\, CT. Meet at the New Haven Green by the flagpole on 
 1/31 at 1pm ET\, rollout at 1:30pm. Organized by a group of cyclists affil
 iated by a few different bike clubs\, including myself.
DTSTART;TZID=America/New_York:20260131T130000
DTEND;TZID=America/New_York:20260131T150000
LOCATION:New Haven Green\, New Haven
GEO:41.307874;-72.926506
URL;VALUE=URI:https://criticalmass.in/new-haven/alex-pretti-memorial-ride-n
 ew-haven-2026-01-31
END:VEVENT
END:VCALENDAR
