BEGIN:VCALENDAR
VERSION:2.0
PRODID:-//Sabre//Sabre VObject 4.5.8//EN
CALSCALE:GREGORIAN
BEGIN:VEVENT
UID:criticalmass-one-nevada-city-1769862600
DTSTAMP:20260422T143804Z
SUMMARY:Alex Pretti Memorial Ride — You Bet! Bike Shop
DESCRIPTION:Meet at the shop this Saturday at 12:30 p.m. roll out at 1 p.m.
  
DTSTART;TZID=America/Los_Angeles:20260131T043000
DTEND;TZID=America/Los_Angeles:20260131T063000
LOCATION:Shop\, Nevada City
GEO:39.253158;-121.024716
URL;VALUE=URI:https://criticalmass.in/nevada-city/alex-pretti-memorial-ride
 -nevada-city-2026-01-31
END:VEVENT
END:VCALENDAR
