BEGIN:VCALENDAR
VERSION:2.0
PRODID:-//Sabre//Sabre VObject 4.5.8//EN
CALSCALE:GREGORIAN
BEGIN:VEVENT
UID:criticalmass-one-neuwied-1725030000
DTSTAMP:20260424T134824Z
SUMMARY:Critical Mass Neuwied 30.08.2024
DTSTART;TZID=Europe/Berlin:20240830T170000
DTEND;TZID=Europe/Berlin:20240830T190000
LOCATION:Langendorfer Str. 100
GEO:50.430475;7.458429
URL;VALUE=URI:https://criticalmass.in/neuwied/2024-08-30
END:VEVENT
END:VCALENDAR
