BEGIN:VCALENDAR
VERSION:2.0
PRODID:-//Sabre//Sabre VObject 4.5.8//EN
CALSCALE:GREGORIAN
BEGIN:VEVENT
UID:criticalmass-one-neuwied-1717167600
DTSTAMP:20260424T041403Z
SUMMARY:Critical Mass Neuwied 31.05.2024
DTSTART;TZID=Europe/Berlin:20240531T170000
DTEND;TZID=Europe/Berlin:20240531T190000
LOCATION:Langendorfer Str. 100
GEO:50.430475;7.458429
URL;VALUE=URI:https://criticalmass.in/neuwied/2024-05-31
END:VEVENT
END:VCALENDAR
